BEGIN:VCALENDAR
VERSION:2.0
PRODID:-//Derkshoes - ECPv6.15.18//NONSGML v1.0//EN
CALSCALE:GREGORIAN
METHOD:PUBLISH
X-ORIGINAL-URL:https://derkshoes.nl
X-WR-CALDESC:Evenementen voor Derkshoes
REFRESH-INTERVAL;VALUE=DURATION:PT1H
X-Robots-Tag:noindex
X-PUBLISHED-TTL:PT1H
BEGIN:VTIMEZONE
TZID:UTC
BEGIN:STANDARD
TZOFFSETFROM:+0000
TZOFFSETTO:+0000
TZNAME:UTC
DTSTART:20250101T000000
END:STANDARD
END:VTIMEZONE
BEGIN:VEVENT
DTSTART;TZID=UTC:20260122T190000
DTEND;TZID=UTC:20260122T210000
DTSTAMP:20260421T133247
CREATED:20250929T140938Z
LAST-MODIFIED:20250930T051341Z
UID:1550-1769108400-1769115600@derkshoes.nl
SUMMARY:Zorg café Westerbork (Toelichting op WMO en Wlz) 
DESCRIPTION:Toelichting op WMO en WlzWet op de maatschappelijke ondersteuning & Wet langdurige zorgWat is WMO en WLZ en wanneer komt iemand hiervoor in aanmerking? Wat zijn de verschillen? \n\n\n\nGastspreker is Marine Haak (van Icare) \n\n\n\nVoor vragen en informatie\, tel: 06- 25638189 ( Gea Witvoet).Zorg café Westerbork is een samenwerkingsverband tussen: Icare\, Derkshoes\, Alzheimer Nederland\, Contactpunt Mantelzorg & Welzijnswerk Midden-Drenthe   \n\n\n\nAdres: ‘t Derkshoes\, Marsdijk 1\, 9431 HN WesterborkProgramma van 19.30-21.00 uur. Vanaf 19:00 uur staat de koffie/ thee klaar! Iedereen is welkom!! Bewoners Derkshoes\, ’t Kruumtenhoes maar ook inwoners van Westerbork en omstreken. Voor (rolstoel) vervoer kunt u contact opnemen met Buurtvervoer Midden-Drenthe 0593-729492
URL:https://derkshoes.nl/agenda/zorg-cafe-westerbork-toelichting-op-wmo-en-wlz
END:VEVENT
END:VCALENDAR