BEGIN:VCALENDAR
VERSION:2.0
PRODID:-//Derkshoes - ECPv6.15.18//NONSGML v1.0//EN
CALSCALE:GREGORIAN
METHOD:PUBLISH
X-ORIGINAL-URL:https://derkshoes.nl
X-WR-CALDESC:Evenementen voor Derkshoes
REFRESH-INTERVAL;VALUE=DURATION:PT1H
X-Robots-Tag:noindex
X-PUBLISHED-TTL:PT1H
BEGIN:VTIMEZONE
TZID:UTC
BEGIN:STANDARD
TZOFFSETFROM:+0000
TZOFFSETTO:+0000
TZNAME:UTC
DTSTART:20240101T000000
END:STANDARD
END:VTIMEZONE
BEGIN:VEVENT
DTSTART;TZID=UTC:20251120T190000
DTEND;TZID=UTC:20251120T210000
DTSTAMP:20260421T133222
CREATED:20250929T135836Z
LAST-MODIFIED:20250930T051305Z
UID:1540-1763665200-1763672400@derkshoes.nl
SUMMARY:Zorg café Westerbork (Mantelzorg)
DESCRIPTION:Mantelzorg1 op de 3 Nederlanders is mantelzorger. In de huidige vergrijzende maatschappij verwacht de politiek veel van de mantelzorger. De belasting neemt daardoor toe. Er verandert van alles in de rol tussen de mantelzorger en degenen waarvoor gezorgd wordt. Hoe met deze veranderende rol om te gaan?   \n\n\n\nGastsprekers zijn Martine Bouwman & Marieke Bootsma \n\n\n\nVoor vragen en informatie\, tel: 06- 25638189 ( Gea Witvoet).Zorg café Westerbork is een samenwerkingsverband tussen: Icare\, Derkshoes\, Alzheimer Nederland\, Contactpunt Mantelzorg & Welzijnswerk Midden-Drenthe   \n\n\n\n\n\n\n\nAdres: ‘t Derkshoes\, Marsdijk 1\, 9431 HN WesterborkProgramma van 19.30-21.00 uur. Vanaf 19:00 uur staat de koffie/ thee klaar! Iedereen is welkom!! Bewoners Derkshoes\, ’t Kruumtenhoes maar ook inwoners van Westerbork en omstreken. Voor (rolstoel) vervoer kunt u contact opnemen met Buurtvervoer Midden-Drenthe 0593-729492
URL:https://derkshoes.nl/agenda/zorg-cafe-westerbork-2
END:VEVENT
END:VCALENDAR