BEGIN:VCALENDAR
VERSION:2.0
PRODID:-//Derkshoes - ECPv6.15.18//NONSGML v1.0//EN
CALSCALE:GREGORIAN
METHOD:PUBLISH
X-ORIGINAL-URL:https://derkshoes.nl
X-WR-CALDESC:Evenementen voor Derkshoes
REFRESH-INTERVAL;VALUE=DURATION:PT1H
X-Robots-Tag:noindex
X-PUBLISHED-TTL:PT1H
BEGIN:VTIMEZONE
TZID:UTC
BEGIN:STANDARD
TZOFFSETFROM:+0000
TZOFFSETTO:+0000
TZNAME:UTC
DTSTART:20250101T000000
END:STANDARD
END:VTIMEZONE
BEGIN:VEVENT
DTSTART;TZID=UTC:20260319T190000
DTEND;TZID=UTC:20260319T210000
DTSTAMP:20260423T005617
CREATED:20250930T050149Z
LAST-MODIFIED:20250930T051504Z
UID:1569-1773946800-1773954000@derkshoes.nl
SUMMARY:Zorg café Westerbork (De 4 fasen van Dementie)
DESCRIPTION:De 4 fasen van Dementie Niet voor iedereen verloopt dementie op dezelfde wijze.  Het zogenaamde “levenspad dementie”.  Wel zijn er globaal verschillende fasen van dementie te herkennen van de eerste tekenen van dementie tot de meest ingrijpende vorm van dementie \n\n\n\nSpreker is Rika Roffelsen van Netwerk Dementie. \n\n\n\n\n\n\n\nHet Zorgcafé Westerbork  is een samenwerkingsverband tussen:  Icare\, Derkshoes\, Alzheimer Nederland\, Contactpunt Mantelzorg & Welzijnswerk Midden-Drenthe. Voor vragen en informatie\, tel: 06- 25638189 ( Gea Witvoet).    \n\n\n\nAdres: ‘t Derkshoes\, Marsdijk 1\, 9431 HN WesterborkProgramma van 19.30-21.00 uur. Vanaf 19.00 uur staat de koffie klaar. Iedereen is welkom!Zowel bewoners van het Derkshoes en ’t Kruumtenhoes als de bewoners van Westerbork en omstreken. Voor (rolstoel) vervoer kunt u contact opnemen met Buurtvervoer Midden-Drenthe 0593-729492 \n\n\n\n \n\n\n\n            
URL:https://derkshoes.nl/agenda/zorg-cafe-westerbork-de-4-fasen-van-dementie
END:VEVENT
BEGIN:VEVENT
DTSTART;TZID=UTC:20260423T190000
DTEND;TZID=UTC:20260423T210000
DTSTAMP:20260423T005617
CREATED:20250930T051030Z
LAST-MODIFIED:20250930T051033Z
UID:1576-1776970800-1776978000@derkshoes.nl
SUMMARY:Zorg café Westerbork (Café met live stijldansmuziek)
DESCRIPTION:Café met live stijldansmuziekFeestelijke afsluiting van het  seizoen\, een gezellig samen zijn. Kom luisteren en er mag gedanst worden (op o.a. de quickstep\, de twist en wals). \n\n\n\nMuzikaal trio: Nait Soez’n \n\n\n\nVoor vragen en informatie\, tel: 06- 25638189 ( Gea Witvoet).Het Zorgcafé Westerbork  is een samenwerkingsverband tussen:    Icare\, Derkshoes\, Alzheimer Nederland\, Contactpunt Mantelzorg & Welzijnswerk Midden-Drenthe.   \n\n\n\nAdres: ‘t Derkshoes\, Marsdijk 1\, 9431 HN WesterborkProgramma van 19.30-21.00 uur. Vanaf 19.00 uur staat de koffie klaar. Iedereen is welkom!Bewoners van het Derkshoes\, ’t Kruumtenhoes maar ook de bewoners van Westerbork en omstreken. Voor ( rolstoel) vervoer kunt u contact opnemen met Buurtvervoer Midden-Drenthe 0593-729492 \n\n\n\n                 
URL:https://derkshoes.nl/agenda/zorg-cafe-westerbork-cafe-met-live-stijldansmuziek
END:VEVENT
END:VCALENDAR